BEGIN:VCALENDAR
VERSION:2.0
PRODID:-//OMNI HR - ECPv6.15.17.1//NONSGML v1.0//EN
CALSCALE:GREGORIAN
METHOD:PUBLISH
X-WR-CALNAME:OMNI HR
X-ORIGINAL-URL:https://omnihrm.com
X-WR-CALDESC:Events for OMNI HR
REFRESH-INTERVAL;VALUE=DURATION:PT1H
X-Robots-Tag:noindex
X-PUBLISHED-TTL:PT1H
BEGIN:VTIMEZONE
TZID:America/Chicago
BEGIN:DAYLIGHT
TZOFFSETFROM:-0600
TZOFFSETTO:-0500
TZNAME:CDT
DTSTART:20240310T080000
END:DAYLIGHT
BEGIN:STANDARD
TZOFFSETFROM:-0500
TZOFFSETTO:-0600
TZNAME:CST
DTSTART:20241103T070000
END:STANDARD
BEGIN:DAYLIGHT
TZOFFSETFROM:-0600
TZOFFSETTO:-0500
TZNAME:CDT
DTSTART:20250309T080000
END:DAYLIGHT
BEGIN:STANDARD
TZOFFSETFROM:-0500
TZOFFSETTO:-0600
TZNAME:CST
DTSTART:20251102T070000
END:STANDARD
BEGIN:DAYLIGHT
TZOFFSETFROM:-0600
TZOFFSETTO:-0500
TZNAME:CDT
DTSTART:20260308T080000
END:DAYLIGHT
BEGIN:STANDARD
TZOFFSETFROM:-0500
TZOFFSETTO:-0600
TZNAME:CST
DTSTART:20261101T070000
END:STANDARD
END:VTIMEZONE
BEGIN:VEVENT
DTSTART;TZID=America/Chicago:20250213T083000
DTEND;TZID=America/Chicago:20250213T093000
DTSTAMP:20260420T042205
CREATED:20241107T143526Z
LAST-MODIFIED:20250917T175434Z
UID:10000155-1739435400-1739439000@omnihrm.com
SUMMARY:Building a Transparent Compensation Program for Fairness & Competitiveness
DESCRIPTION:This session\, designed for leaders and decision-makers in small to mid-sized organizations\, will cover: \n\nCompensation Fundamentals: Overview of base pay\, bonuses\, benefits\, and incentives.\nCurrent Compensation Challenges: Addressing pay equity\, competitiveness\, and employee satisfaction.\nSigns of Need for a Formal Program: How to identify if your organization would benefit from a structured compensation plan.\nSteps to Establish a Program: Practical steps to build a fair\, transparent\, and goal-aligned compensation structure.\nPay Transparency: Equip managers to engage in clear\, open conversations with team members about how their pay is determined.\n\n  \nClick here to register and receive Zoom login details. \nInterested in presenting this topic to your team? Contact us for details regarding customized onsite workshops.
URL:https://omnihrm.com/event/building-a-transparent-compensation-program-for-fairness-and-competitiveness/
CATEGORIES:OMNI Learning and Development Series
ATTACH;FMTTYPE=image/jpeg:https://omnihrm.com/wp-content/uploads/2024/11/Shutterstock_425206609-2-scaled.jpg
END:VEVENT
END:VCALENDAR