BEGIN:VCALENDAR
VERSION:2.0
PRODID:-//OMNI HR - ECPv6.15.17.1//NONSGML v1.0//EN
CALSCALE:GREGORIAN
METHOD:PUBLISH
X-WR-CALNAME:OMNI HR
X-ORIGINAL-URL:https://omnihrm.com
X-WR-CALDESC:Events for OMNI HR
REFRESH-INTERVAL;VALUE=DURATION:PT1H
X-Robots-Tag:noindex
X-PUBLISHED-TTL:PT1H
BEGIN:VTIMEZONE
TZID:America/Chicago
BEGIN:DAYLIGHT
TZOFFSETFROM:-0600
TZOFFSETTO:-0500
TZNAME:CDT
DTSTART:20240310T080000
END:DAYLIGHT
BEGIN:STANDARD
TZOFFSETFROM:-0500
TZOFFSETTO:-0600
TZNAME:CST
DTSTART:20241103T070000
END:STANDARD
BEGIN:DAYLIGHT
TZOFFSETFROM:-0600
TZOFFSETTO:-0500
TZNAME:CDT
DTSTART:20250309T080000
END:DAYLIGHT
BEGIN:STANDARD
TZOFFSETFROM:-0500
TZOFFSETTO:-0600
TZNAME:CST
DTSTART:20251102T070000
END:STANDARD
BEGIN:DAYLIGHT
TZOFFSETFROM:-0600
TZOFFSETTO:-0500
TZNAME:CDT
DTSTART:20260308T080000
END:DAYLIGHT
BEGIN:STANDARD
TZOFFSETFROM:-0500
TZOFFSETTO:-0600
TZNAME:CST
DTSTART:20261101T070000
END:STANDARD
END:VTIMEZONE
BEGIN:VEVENT
DTSTART;TZID=America/Chicago:20250109T083000
DTEND;TZID=America/Chicago:20250109T093000
DTSTAMP:20260420T011229
CREATED:20241107T143142Z
LAST-MODIFIED:20241211T143427Z
UID:10000153-1736411400-1736415000@omnihrm.com
SUMMARY:Performance Management Reboot: Kick off the New Year
DESCRIPTION:The new year is a perfect time to reset expectations with each team member. This session emphasizes the importance of a collaborative working relationship between leaders and their team members\, fostering transparency and engagement throughout the review process. In this workshop\, we will will cover: \n\nThe types of appraisal methods that exist and introduce you to the “OMNI Way” of performance management.\nSetting expectations with your team.\nThe SMART-ER way to set goals and objectives and incorporate competencies into your performance management process.\n\n  \nClick here to register and receive Zoom login details. \nInterested in presenting this topic to your team? Contact us for details regarding customized onsite workshops.
URL:https://omnihrm.com/event/year-end-performance-conversations-strategies-for-employees-2/
CATEGORIES:OMNI Learning and Development Series
ATTACH;FMTTYPE=image/jpeg:https://omnihrm.com/wp-content/uploads/2024/01/AdobeStock_340500248-scaled.jpeg
END:VEVENT
END:VCALENDAR