BEGIN:VCALENDAR
VERSION:2.0
PRODID:-//OMNI HR - ECPv6.15.17.1//NONSGML v1.0//EN
CALSCALE:GREGORIAN
METHOD:PUBLISH
X-WR-CALNAME:OMNI HR
X-ORIGINAL-URL:https://omnihrm.com
X-WR-CALDESC:Events for OMNI HR
REFRESH-INTERVAL;VALUE=DURATION:PT1H
X-Robots-Tag:noindex
X-PUBLISHED-TTL:PT1H
BEGIN:VTIMEZONE
TZID:America/Chicago
BEGIN:DAYLIGHT
TZOFFSETFROM:-0600
TZOFFSETTO:-0500
TZNAME:CDT
DTSTART:20230312T080000
END:DAYLIGHT
BEGIN:STANDARD
TZOFFSETFROM:-0500
TZOFFSETTO:-0600
TZNAME:CST
DTSTART:20231105T070000
END:STANDARD
BEGIN:DAYLIGHT
TZOFFSETFROM:-0600
TZOFFSETTO:-0500
TZNAME:CDT
DTSTART:20240310T080000
END:DAYLIGHT
BEGIN:STANDARD
TZOFFSETFROM:-0500
TZOFFSETTO:-0600
TZNAME:CST
DTSTART:20241103T070000
END:STANDARD
BEGIN:DAYLIGHT
TZOFFSETFROM:-0600
TZOFFSETTO:-0500
TZNAME:CDT
DTSTART:20250309T080000
END:DAYLIGHT
BEGIN:STANDARD
TZOFFSETFROM:-0500
TZOFFSETTO:-0600
TZNAME:CST
DTSTART:20251102T070000
END:STANDARD
END:VTIMEZONE
BEGIN:VEVENT
DTSTART;TZID=America/Chicago:20241010T083000
DTEND;TZID=America/Chicago:20241010T093000
DTSTAMP:20260419T193603
CREATED:20240722T212209Z
LAST-MODIFIED:20240918T210434Z
UID:10000148-1728549000-1728552600@omnihrm.com
SUMMARY:The Ultimate Guide to Employee Benefits: Strategies for Maximizing ROI
DESCRIPTION:Please join us on October 10th at 8:30 am Central Time for our virtual workshop\, “Maximizing ROI: Understanding and Implementing Employee Benefits.” Designed for managers and executives at small to mid-sized businesses and organizations\, the session will provide an in-depth exploration of the various types of employee benefits\, from health insurance and retirement plans to wellness programs and flexible work arrangements. \nWe will guide you through the process of determining which benefits offer the highest return on investment (ROI) for both your employees and your organization\, ensuring that you make informed decisions that maximize value. Discover which benefits are currently “in vogue” and learn about their true value and impact on employee satisfaction and retention. \nThe session will wrap up with a discussion on how OMNI can assist your organization in optimizing the ROI of your benefits program\, especially when resources are limited. Gain practical insights and strategies to create a benefits package that attracts and retains top talent while staying within budget. \nDon’t miss this opportunity to enhance your understanding of employee benefits and learn how to implement a benefits strategy that drives success for your organization. \nClick here to register and receive Zoom login details. \nCost: $75/person (No cost to OMNI membership or outsourcing clients) \nInterested in presenting this topic to your team? Contact us for details regarding customized onsite workshops.
URL:https://omnihrm.com/event/the-ultimate-guide-to-employee-benefits-strategies-for-maximizing-roi/
CATEGORIES:OMNI Learning and Development Series
ATTACH;FMTTYPE=image/jpeg:https://omnihrm.com/wp-content/uploads/2024/07/Shutterstock_1154275681-2-scaled.jpg
END:VEVENT
END:VCALENDAR